BEGIN:VCALENDAR
VERSION:2.0
PRODID:-//New Beginnings - ECPv6.15.20//NONSGML v1.0//EN
CALSCALE:GREGORIAN
METHOD:PUBLISH
X-WR-CALNAME:New Beginnings
X-ORIGINAL-URL:https://beginnings.org.uk
X-WR-CALDESC:Events for New Beginnings
REFRESH-INTERVAL;VALUE=DURATION:PT1H
X-Robots-Tag:noindex
X-PUBLISHED-TTL:PT1H
BEGIN:VTIMEZONE
TZID:Europe/London
BEGIN:DAYLIGHT
TZOFFSETFROM:+0000
TZOFFSETTO:+0100
TZNAME:BST
DTSTART:20250330T010000
END:DAYLIGHT
BEGIN:STANDARD
TZOFFSETFROM:+0100
TZOFFSETTO:+0000
TZNAME:GMT
DTSTART:20251026T010000
END:STANDARD
BEGIN:DAYLIGHT
TZOFFSETFROM:+0000
TZOFFSETTO:+0100
TZNAME:BST
DTSTART:20260329T010000
END:DAYLIGHT
BEGIN:STANDARD
TZOFFSETFROM:+0100
TZOFFSETTO:+0000
TZNAME:GMT
DTSTART:20261025T010000
END:STANDARD
BEGIN:DAYLIGHT
TZOFFSETFROM:+0000
TZOFFSETTO:+0100
TZNAME:BST
DTSTART:20270328T010000
END:DAYLIGHT
BEGIN:STANDARD
TZOFFSETFROM:+0100
TZOFFSETTO:+0000
TZNAME:GMT
DTSTART:20271031T010000
END:STANDARD
END:VTIMEZONE
BEGIN:VEVENT
DTSTART;TZID=Europe/London:20260602T080000
DTEND;TZID=Europe/London:20260606T170000
DTSTAMP:20260424T160932
CREATED:20260420T151408Z
LAST-MODIFIED:20260420T151408Z
UID:261208-1780387200-1780765200@beginnings.org.uk
SUMMARY:Echoes of Andalusia
DESCRIPTION:Join New Beginnings and Organic Soul for Echoes of Andalusia\, a five-day heritage retreat through the historic cities of Cordoba and Granada in southern Spain. Together\, we will journey through the lands where faith once flourished and scholarship shaped a civilisation. From the arches of the Great Mosque of Cordoba to the quiet majesty of the Alhambra\, this retreat invites us to explore the living legacy of Al-Andalus while reflecting on what it means for us today
URL:https://beginnings.org.uk/event/echoes-of-andalusia/
LOCATION:Granada\, Granada\, Spain
CATEGORIES:Classes,socials
ATTACH;FMTTYPE=image/png:https://beginnings.org.uk/wp-content/uploads/nb-andalusia-tour-square2.avif
END:VEVENT
END:VCALENDAR