BEGIN:VCALENDAR
VERSION:2.0
PRODID:-//New Beginnings - ECPv6.15.20//NONSGML v1.0//EN
CALSCALE:GREGORIAN
METHOD:PUBLISH
X-WR-CALNAME:New Beginnings
X-ORIGINAL-URL:https://beginnings.org.uk
X-WR-CALDESC:Events for New Beginnings
REFRESH-INTERVAL;VALUE=DURATION:PT1H
X-Robots-Tag:noindex
X-PUBLISHED-TTL:PT1H
BEGIN:VTIMEZONE
TZID:Europe/London
BEGIN:DAYLIGHT
TZOFFSETFROM:+0000
TZOFFSETTO:+0100
TZNAME:BST
DTSTART:20230326T010000
END:DAYLIGHT
BEGIN:STANDARD
TZOFFSETFROM:+0100
TZOFFSETTO:+0000
TZNAME:GMT
DTSTART:20231029T010000
END:STANDARD
BEGIN:DAYLIGHT
TZOFFSETFROM:+0000
TZOFFSETTO:+0100
TZNAME:BST
DTSTART:20240331T010000
END:DAYLIGHT
BEGIN:STANDARD
TZOFFSETFROM:+0100
TZOFFSETTO:+0000
TZNAME:GMT
DTSTART:20241027T010000
END:STANDARD
BEGIN:DAYLIGHT
TZOFFSETFROM:+0000
TZOFFSETTO:+0100
TZNAME:BST
DTSTART:20250330T010000
END:DAYLIGHT
BEGIN:STANDARD
TZOFFSETFROM:+0100
TZOFFSETTO:+0000
TZNAME:GMT
DTSTART:20251026T010000
END:STANDARD
BEGIN:DAYLIGHT
TZOFFSETFROM:+0000
TZOFFSETTO:+0100
TZNAME:BST
DTSTART:20260329T010000
END:DAYLIGHT
BEGIN:STANDARD
TZOFFSETFROM:+0100
TZOFFSETTO:+0000
TZNAME:GMT
DTSTART:20261025T010000
END:STANDARD
END:VTIMEZONE
BEGIN:VEVENT
DTSTART;VALUE=DATE:20250124
DTEND;VALUE=DATE:20250128
DTSTAMP:20260425T174207
CREATED:20240628T153729Z
LAST-MODIFIED:20241203T163958Z
UID:254186-1737676800-1738022399@beginnings.org.uk
SUMMARY:Marrakech Marathon
DESCRIPTION:
URL:https://beginnings.org.uk/event/marrakech-marathon/
LOCATION:Marrakech\, Marrakech\, Morocco
ATTACH;FMTTYPE=image/jpeg:https://beginnings.org.uk/wp-content/uploads/nb-moroco-marathon.jpg
END:VEVENT
BEGIN:VEVENT
DTSTART;TZID=Europe/London:20250102T190000
DTEND;TZID=Europe/London:20250102T200000
DTSTAMP:20260425T174207
CREATED:20241119T155908Z
LAST-MODIFIED:20241225T161955Z
UID:256001-1735844400-1735848000@beginnings.org.uk
SUMMARY:Firm Foundations Course
DESCRIPTION:
URL:https://beginnings.org.uk/event/firm-foundations-course-2/
LOCATION:Zoom
ATTACH;FMTTYPE=image/jpeg:https://beginnings.org.uk/wp-content/uploads/firm-foundations2024-aug-01.jpg
END:VEVENT
BEGIN:VEVENT
DTSTART;VALUE=DATE:20241221
DTEND;VALUE=DATE:20241222
DTSTAMP:20260425T174207
CREATED:20240628T165300Z
LAST-MODIFIED:20240628T170659Z
UID:254225-1734739200-1734825599@beginnings.org.uk
SUMMARY:Annual General Meeting
DESCRIPTION:
URL:https://beginnings.org.uk/event/annual-general-meeting/
LOCATION:Manchester\, Manchester\, United Kingdom
END:VEVENT
BEGIN:VEVENT
DTSTART;VALUE=DATE:20241221
DTEND;VALUE=DATE:20241222
DTSTAMP:20260425T174207
CREATED:20240628T154107Z
LAST-MODIFIED:20240628T170311Z
UID:254193-1734739200-1734825599@beginnings.org.uk
SUMMARY:Volunteer Training
DESCRIPTION:
URL:https://beginnings.org.uk/event/volunteer-training/
LOCATION:Manchester\, Manchester\, United Kingdom
END:VEVENT
BEGIN:VEVENT
DTSTART;TZID=Europe/London:20241216T190000
DTEND;TZID=Europe/London:20241216T210000
DTSTAMP:20260425T174207
CREATED:20241119T155628Z
LAST-MODIFIED:20241127T142328Z
UID:255999-1734375600-1734382800@beginnings.org.uk
SUMMARY:Discovering Islam Course
DESCRIPTION:
URL:https://beginnings.org.uk/event/discovering-islam-course-2/
LOCATION:Zoom
ATTACH;FMTTYPE=image/jpeg:https://beginnings.org.uk/wp-content/uploads/nb-discovering-islam2.jpg
END:VEVENT
BEGIN:VEVENT
DTSTART;VALUE=DATE:20241024
DTEND;VALUE=DATE:20241104
DTSTAMP:20260425T174207
CREATED:20240628T153833Z
LAST-MODIFIED:20240808T135633Z
UID:254187-1729728000-1730678399@beginnings.org.uk
SUMMARY:Umrah
DESCRIPTION:
URL:https://beginnings.org.uk/event/umrah/
LOCATION:Saudi Arabia\, Mecca\, Saudi Arabia
ATTACH;FMTTYPE=image/jpeg:https://beginnings.org.uk/wp-content/uploads/nb-umrah-working-file-2024.jpg
END:VEVENT
BEGIN:VEVENT
DTSTART;TZID=Europe/London:20241002T180000
DTEND;TZID=Europe/London:20241002T220000
DTSTAMP:20260425T174208
CREATED:20240918T144956Z
LAST-MODIFIED:20240918T144956Z
UID:255516-1727892000-1727906400@beginnings.org.uk
SUMMARY:Annual Conference: The Prophetic Blueprint
DESCRIPTION:
URL:https://beginnings.org.uk/event/annual-conference-the-prophetic-blueprint/
LOCATION:Manchester\, Manchester\, United Kingdom
ATTACH;FMTTYPE=image/jpeg:https://beginnings.org.uk/wp-content/uploads/Building-Concious-Communities-1.jpg
END:VEVENT
BEGIN:VEVENT
DTSTART;TZID=Europe/London:20240905T190000
DTEND;TZID=Europe/London:20240905T200000
DTSTAMP:20260425T174208
CREATED:20240628T152234Z
LAST-MODIFIED:20240808T140030Z
UID:254174-1725562800-1725566400@beginnings.org.uk
SUMMARY:Firm Foundations Course Induction
DESCRIPTION:
URL:https://beginnings.org.uk/event/firm-foundations-course/
LOCATION:Zoom
ATTACH;FMTTYPE=image/png:https://beginnings.org.uk/wp-content/uploads/firm-foundations2023-sep-poster-working-file-1-Recovered-01.png
END:VEVENT
BEGIN:VEVENT
DTSTART;TZID=Europe/London:20240903T200000
DTEND;TZID=Europe/London:20240903T210000
DTSTAMP:20260425T174208
CREATED:20240628T153117Z
LAST-MODIFIED:20240902T104129Z
UID:254182-1725393600-1725397200@beginnings.org.uk
SUMMARY:Prophetic Biography Course
DESCRIPTION:
URL:https://beginnings.org.uk/event/prophetic-biography-course/
LOCATION:Zoom
ATTACH;FMTTYPE=image/jpeg:https://beginnings.org.uk/wp-content/uploads/new-Beginnings-nb-LifeOfProphet-2024.jpg
END:VEVENT
BEGIN:VEVENT
DTSTART;TZID=Europe/London:20240825T100000
DTEND;TZID=Europe/London:20240825T170000
DTSTAMP:20260425T174208
CREATED:20240808T134630Z
LAST-MODIFIED:20240808T134630Z
UID:254793-1724580000-1724605200@beginnings.org.uk
SUMMARY:BBQ & Hike
DESCRIPTION:
URL:https://beginnings.org.uk/event/bbq-hike/
LOCATION:Skipton\, United Kingdom
ATTACH;FMTTYPE=image/jpeg:https://beginnings.org.uk/wp-content/uploads/nb-organic-soul-bbq-2024-1.jpg
END:VEVENT
BEGIN:VEVENT
DTSTART;TZID=Europe/London:20240819T190000
DTEND;TZID=Europe/London:20240819T203000
DTSTAMP:20260425T174208
CREATED:20241126T160547Z
LAST-MODIFIED:20241127T120854Z
UID:254172-1724094000-1724099400@beginnings.org.uk
SUMMARY:Discovering Islam Course
DESCRIPTION:
URL:https://beginnings.org.uk/event/discovering-islam-course/
LOCATION:Zoom
END:VEVENT
BEGIN:VEVENT
DTSTART;TZID=Europe/London:20240806T190000
DTEND;TZID=Europe/London:20240806T200000
DTSTAMP:20260425T174208
CREATED:20240628T152818Z
LAST-MODIFIED:20240628T170409Z
UID:254178-1722970800-1722974400@beginnings.org.uk
SUMMARY:Understanding Zakah Course
DESCRIPTION:
URL:https://beginnings.org.uk/event/understanding-zakah-course/
LOCATION:Zoom
END:VEVENT
BEGIN:VEVENT
DTSTART;TZID=Europe/London:20240721T130000
DTEND;TZID=Europe/London:20240721T170000
DTSTAMP:20260425T174208
CREATED:20240704T171243Z
LAST-MODIFIED:20240704T171243Z
UID:254330-1721566800-1721581200@beginnings.org.uk
SUMMARY:Bridging Faith
DESCRIPTION:
URL:https://beginnings.org.uk/event/bridging-faith/
LOCATION:Manchester\, Manchester\, United Kingdom
END:VEVENT
BEGIN:VEVENT
DTSTART;TZID=Europe/London:20240716T190000
DTEND;TZID=Europe/London:20240716T203000
DTSTAMP:20260425T174208
CREATED:20240628T145843Z
LAST-MODIFIED:20240628T170422Z
UID:254168-1721156400-1721161800@beginnings.org.uk
SUMMARY:Volunteer Onboarding
DESCRIPTION:
URL:https://beginnings.org.uk/event/volunteer-onboarding/
LOCATION:Zoom
END:VEVENT
BEGIN:VEVENT
DTSTART;TZID=Europe/London:20240702T183000
DTEND;TZID=Europe/London:20240702T210000
DTSTAMP:20260425T174208
CREATED:20240628T145033Z
LAST-MODIFIED:20240628T170042Z
UID:254164-1719945000-1719954000@beginnings.org.uk
SUMMARY:Heart 2 Heart
DESCRIPTION:
URL:https://beginnings.org.uk/event/heart-2-heart/
LOCATION:Barking\, Barking\, United Kingdom
END:VEVENT
END:VCALENDAR