BEGIN:VCALENDAR
VERSION:2.0
PRODID:-//New Beginnings - ECPv6.15.20//NONSGML v1.0//EN
CALSCALE:GREGORIAN
METHOD:PUBLISH
X-WR-CALNAME:New Beginnings
X-ORIGINAL-URL:https://beginnings.org.uk
X-WR-CALDESC:Events for New Beginnings
REFRESH-INTERVAL;VALUE=DURATION:PT1H
X-Robots-Tag:noindex
X-PUBLISHED-TTL:PT1H
BEGIN:VTIMEZONE
TZID:Europe/London
BEGIN:DAYLIGHT
TZOFFSETFROM:+0000
TZOFFSETTO:+0100
TZNAME:BST
DTSTART:20250330T010000
END:DAYLIGHT
BEGIN:STANDARD
TZOFFSETFROM:+0100
TZOFFSETTO:+0000
TZNAME:GMT
DTSTART:20251026T010000
END:STANDARD
BEGIN:DAYLIGHT
TZOFFSETFROM:+0000
TZOFFSETTO:+0100
TZNAME:BST
DTSTART:20260329T010000
END:DAYLIGHT
BEGIN:STANDARD
TZOFFSETFROM:+0100
TZOFFSETTO:+0000
TZNAME:GMT
DTSTART:20261025T010000
END:STANDARD
BEGIN:DAYLIGHT
TZOFFSETFROM:+0000
TZOFFSETTO:+0100
TZNAME:BST
DTSTART:20270328T010000
END:DAYLIGHT
BEGIN:STANDARD
TZOFFSETFROM:+0100
TZOFFSETTO:+0000
TZNAME:GMT
DTSTART:20271031T010000
END:STANDARD
END:VTIMEZONE
BEGIN:VEVENT
DTSTART;VALUE=DATE:20260218
DTEND;VALUE=DATE:20260320
DTSTAMP:20260424T171428
CREATED:20251215T143539Z
LAST-MODIFIED:20260309T112120Z
UID:259587-1771372800-1773964799@beginnings.org.uk
SUMMARY:Daily Ramadan Programme
DESCRIPTION:
URL:https://beginnings.org.uk/event/daily-ramadan-programme/
CATEGORIES:Classes
ATTACH;FMTTYPE=image/png:https://beginnings.org.uk/wp-content/uploads/Ramadan.png
END:VEVENT
BEGIN:VEVENT
DTSTART;TZID=Europe/London:20260321T200000
DTEND;TZID=Europe/London:20260321T213000
DTSTAMP:20260424T171428
CREATED:20251223T160816Z
LAST-MODIFIED:20260309T120904Z
UID:259628-1774123200-1774128600@beginnings.org.uk
SUMMARY:Eid al-Fitr Online Party
DESCRIPTION:Join via the link\, no registration is required!
URL:https://beginnings.org.uk/event/eid-al-fitr-online-party/
CATEGORIES:socials
ATTACH;FMTTYPE=image/png:https://beginnings.org.uk/wp-content/uploads/Eid-Online.png
END:VEVENT
BEGIN:VEVENT
DTSTART;TZID=Europe/London:20260326T190000
DTEND;TZID=Europe/London:20260326T200000
DTSTAMP:20260424T171428
CREATED:20251215T125156Z
LAST-MODIFIED:20260309T114143Z
UID:259583-1774551600-1774555200@beginnings.org.uk
SUMMARY:Firm Foundations Course
DESCRIPTION:Join our free online flagship 10-week course!
URL:https://beginnings.org.uk/event/firm-foundations-course-3/
LOCATION:Zoom
CATEGORIES:Classes
ATTACH;FMTTYPE=image/png:https://beginnings.org.uk/wp-content/uploads/FF1SEp25b.png
END:VEVENT
BEGIN:VEVENT
DTSTART;TZID=Europe/London:20260328T120000
DTEND;TZID=Europe/London:20260328T170000
DTSTAMP:20260424T171428
CREATED:20251215T125004Z
LAST-MODIFIED:20260228T163950Z
UID:259581-1774699200-1774717200@beginnings.org.uk
SUMMARY:Eid al-Fitr Party 2026
DESCRIPTION:Eid Like It’s 1989 ✨\n\nWe’re going back to the 80s this year! 🪩\nJoin us in Manchester for an afternoon of games\, good food\, throwback classics and plenty of Eid joy. \n🎮 Games\n🍴 Good food\n✨ Retro vibes \nOptional dress code: Add a touch of 80s fun: Neon colours\, vintage flair\, throwback style 🕶️ \n🎟 Limited tickets available \nWith immense thanks to our generous sponsors NMR Accountants Ltd and Amin Haque Solicitors\, for supporting this special celebration.
URL:https://beginnings.org.uk/event/eid-al-fitr-party-2/
LOCATION:Manchester\, Manchester\, United Kingdom
CATEGORIES:socials
ATTACH;FMTTYPE=image/png:https://beginnings.org.uk/wp-content/uploads/Eid-Like-1989.png
END:VEVENT
BEGIN:VEVENT
DTSTART;TZID=Europe/London:20260528T200000
DTEND;TZID=Europe/London:20260528T213000
DTSTAMP:20260424T171428
CREATED:20260420T150711Z
LAST-MODIFIED:20260420T150711Z
UID:261205-1779998400-1780003800@beginnings.org.uk
SUMMARY:Eid Online
DESCRIPTION:Eid is a special time for Muslims to come together and celebrate. We know from first-hand experience how hard it is for converts around Eid time\, a time that should be filled with joy and togetherness. To ensure that no one is alone\, we have organised this online gathering of reflection\, games\, poetry\, and discussion in the evening of Eid.
URL:https://beginnings.org.uk/event/eid-online-2/
CATEGORIES:socials
ATTACH;FMTTYPE=image/png:https://beginnings.org.uk/wp-content/uploads/Eid-al-adha-online-Party.avif
END:VEVENT
BEGIN:VEVENT
DTSTART;TZID=Europe/London:20260531T080000
DTEND;TZID=Europe/London:20260531T170000
DTSTAMP:20260424T171428
CREATED:20260414T125008Z
LAST-MODIFIED:20260420T144800Z
UID:261159-1780214400-1780246800@beginnings.org.uk
SUMMARY:Eid al-Adha Party and BBQ
DESCRIPTION:We have organised this summer BBQ party to ensure that no one is alone and to give the importance\, quality\, attention\, and personal touch it needs to make this day amazing. It will be a fantastic event for everyone to enjoy great food\, activities\, and good company. This day will exclusively welcome converts and those who are not Muslim\, and is a personal invitation to host and welcome their Muslim and non-Muslim families.
URL:https://beginnings.org.uk/event/eid-al-adha-party-and-bbq/
LOCATION:Manchester\, Manchester\, United Kingdom
CATEGORIES:socials
ATTACH;FMTTYPE=image/png:https://beginnings.org.uk/wp-content/uploads/chillin-grillin-Square.avif
END:VEVENT
BEGIN:VEVENT
DTSTART;TZID=Europe/London:20260602T080000
DTEND;TZID=Europe/London:20260606T170000
DTSTAMP:20260424T171428
CREATED:20260420T151408Z
LAST-MODIFIED:20260420T151408Z
UID:261208-1780387200-1780765200@beginnings.org.uk
SUMMARY:Echoes of Andalusia
DESCRIPTION:Join New Beginnings and Organic Soul for Echoes of Andalusia\, a five-day heritage retreat through the historic cities of Cordoba and Granada in southern Spain. Together\, we will journey through the lands where faith once flourished and scholarship shaped a civilisation. From the arches of the Great Mosque of Cordoba to the quiet majesty of the Alhambra\, this retreat invites us to explore the living legacy of Al-Andalus while reflecting on what it means for us today
URL:https://beginnings.org.uk/event/echoes-of-andalusia/
LOCATION:Granada\, Granada\, Spain
CATEGORIES:Classes,socials
ATTACH;FMTTYPE=image/png:https://beginnings.org.uk/wp-content/uploads/nb-andalusia-tour-square2.avif
END:VEVENT
BEGIN:VEVENT
DTSTART;TZID=Europe/London:20261022T080000
DTEND;TZID=Europe/London:20261102T170000
DTSTAMP:20260424T171428
CREATED:20260129T162444Z
LAST-MODIFIED:20260317T152342Z
UID:260091-1792656000-1793638800@beginnings.org.uk
SUMMARY:Umrah 2026
DESCRIPTION:Join us on our yearly visit to the holy lands. Our journey begins in Manchester taking us first to Medina and then Mecca for a life-changing spiritual journey.
URL:https://beginnings.org.uk/event/umrah-2026/
LOCATION:Saudi Arabia\, Mecca\, Saudi Arabia
CATEGORIES:Classes,socials
ATTACH;FMTTYPE=image/png:https://beginnings.org.uk/wp-content/uploads/Tale-of-two-Square.avif
END:VEVENT
END:VCALENDAR